BEGIN:VCALENDAR
METHOD:REQUEST
PRODID:-//events.orgNONSGML ical.net 4.0//EN
VERSION:2.0
BEGIN:VEVENT
DTEND;VALUE=DATE:20260522
DTSTAMP:20260422T090310Z
DTSTART;VALUE=DATE:20260522
LOCATION:Chicago Architecture Center - First Lady\, Chicago
ORGANIZER;CN=:mailto:events@events.org
SEQUENCE:0
SUMMARY:Chicago Architecture Center River Cruise Aboard First Lady
UID:399e8b6b-74c0-497f-94c6-2d8035166302
URL:https://events.org/e/Chicago-Architecture-Center-River-Cruise-Aboa/T2H
 PYXO8
BEGIN:VALARM
ACTION:DISPLAY
SUMMARY:Reminder
TRIGGER:-P1D
END:VALARM
END:VEVENT
END:VCALENDAR
