BEGIN:VCALENDAR
METHOD:REQUEST
PRODID:-//events.orgNONSGML ical.net 4.0//EN
VERSION:2.0
BEGIN:VEVENT
DTEND:20210318T200000Z
DTSTAMP:20260421T084141Z
DTSTART:20210318T190000Z
LOCATION:Hillsborough\, NC\, USA
ORGANIZER;CN=:mailto:events@events.org
SEQUENCE:0
SUMMARY:Cedar Ridge High School March Evening of Entertainment 2021
UID:0c2a504b-aac1-4178-8c44-a20fda2f7bfc
URL:https://events.org/e/Cedar-Ridge-High-School-March-Evening-of-Ente/M4T
 E8ENR
BEGIN:VALARM
ACTION:DISPLAY
SUMMARY:Reminder
TRIGGER:-P1D
END:VALARM
END:VEVENT
END:VCALENDAR
