BEGIN:VCALENDAR
METHOD:REQUEST
PRODID:-//events.orgNONSGML ical.net 4.0//EN
VERSION:2.0
BEGIN:VEVENT
DTEND;VALUE=DATE:20260625
DTSTAMP:20260423T133420Z
DTSTART;VALUE=DATE:20260625
LOCATION:Marquis\, Denver
ORGANIZER;CN=:mailto:events@events.org
SEQUENCE:0
SUMMARY:H2o
UID:34d821a0-fad6-4003-a6f4-a0bf50bb1445
URL:https://events.org/e/H2o/Y8BDL8Q6
BEGIN:VALARM
ACTION:DISPLAY
SUMMARY:Reminder
TRIGGER:-P1D
END:VALARM
END:VEVENT
END:VCALENDAR
