BEGIN:VCALENDAR
METHOD:REQUEST
PRODID:-//events.orgNONSGML ical.net 4.0//EN
VERSION:2.0
BEGIN:VEVENT
DTEND;VALUE=DATE:20260626
DTSTAMP:20260422T092013Z
DTSTART;VALUE=DATE:20260626
LOCATION:Chop Suey\, Seattle
ORGANIZER;CN=:mailto:events@events.org
SEQUENCE:0
SUMMARY:PRIDE EUPHORIC
UID:863508ee-1f9d-4969-a072-d6a1e211529b
URL:https://events.org/e/PRIDE-EUPHORIC/32IFFS6K
BEGIN:VALARM
ACTION:DISPLAY
SUMMARY:Reminder
TRIGGER:-P1D
END:VALARM
END:VEVENT
END:VCALENDAR
