BEGIN:VCALENDAR
METHOD:REQUEST
PRODID:-//events.orgNONSGML ical.net 4.0//EN
VERSION:2.0
BEGIN:VEVENT
DTEND;VALUE=DATE:20260922
DTSTAMP:20260419T142616Z
DTSTART;VALUE=DATE:20260922
LOCATION:South Side Ballroom\, Dallas
ORGANIZER;CN=:mailto:events@events.org
SEQUENCE:0
SUMMARY:ALT 103.7 Presents Rise Against - Ricochet 2026
UID:1800e96b-fd0b-4857-a864-5d288e89ba17
URL:https://events.org/e/ALT-1037-Presents-Rise-Against---Ricochet-2026/U8
 XU5K5Y
BEGIN:VALARM
ACTION:DISPLAY
SUMMARY:Reminder
TRIGGER:-P1D
END:VALARM
END:VEVENT
END:VCALENDAR
