BEGIN:VCALENDAR
METHOD:REQUEST
PRODID:-//events.orgNONSGML ical.net 4.0//EN
VERSION:2.0
BEGIN:VEVENT
DTEND;VALUE=DATE:20260712
DTSTAMP:20260421T103624Z
DTSTART;VALUE=DATE:20260712
LOCATION:PETCO Park\, San Diego
ORGANIZER;CN=:mailto:events@events.org
SEQUENCE:0
SUMMARY:San Diego Padres vs. Toronto Blue Jays
UID:ae959b69-a174-4945-a953-a39d6e8f6c8c
URL:https://events.org/e/San-Diego-Padres-vs-Toronto-Blue-Jays/CHSGKAU3
BEGIN:VALARM
ACTION:DISPLAY
SUMMARY:Reminder
TRIGGER:-P1D
END:VALARM
END:VEVENT
END:VCALENDAR
