BEGIN:VCALENDAR
METHOD:REQUEST
PRODID:-//events.orgNONSGML ical.net 4.0//EN
VERSION:2.0
BEGIN:VEVENT
DTEND;VALUE=DATE:20260517
DTSTAMP:20260419T091800Z
DTSTART;VALUE=DATE:20260517
LOCATION:Reggie's Rock Club\, Chicago
ORGANIZER;CN=:mailto:events@events.org
SEQUENCE:0
SUMMARY:Oranssi Pazuzu w/ Wayfarer
UID:49868c55-629f-44d4-aca0-b156636852c3
URL:https://events.org/e/Oranssi-Pazuzu-w-Wayfarer/U8KLXFN5
BEGIN:VALARM
ACTION:DISPLAY
SUMMARY:Reminder
TRIGGER:-P1D
END:VALARM
END:VEVENT
END:VCALENDAR
