BEGIN:VCALENDAR
METHOD:REQUEST
PRODID:-//events.orgNONSGML ical.net 4.0//EN
VERSION:2.0
BEGIN:VEVENT
DTEND;VALUE=DATE:20260426
DTSTAMP:20260422T085427Z
DTSTART;VALUE=DATE:20260426
LOCATION:Ellen's Stardust Theater\, New York
ORGANIZER;CN=:mailto:events@events.org
SEQUENCE:0
SUMMARY:MAMMA MIA! Bottomless Brunch at Ellen’s Stardust Diner!
UID:0eae2c5c-ad5f-451f-b2b0-245f9ee2a230
URL:https://events.org/e/MAMMA-MIA-Bottomless-Brunch-at-Ellens-Stardus/7RE
 VKIO3
BEGIN:VALARM
ACTION:DISPLAY
SUMMARY:Reminder
TRIGGER:-P1D
END:VALARM
END:VEVENT
END:VCALENDAR
