BEGIN:VCALENDAR
METHOD:REQUEST
PRODID:-//events.orgNONSGML ical.net 4.0//EN
VERSION:2.0
BEGIN:VEVENT
DTEND;VALUE=DATE:20260610
DTSTAMP:20260421T094108Z
DTSTART;VALUE=DATE:20260610
LOCATION:The Independent\, San Francisco
ORGANIZER;CN=:mailto:events@events.org
SEQUENCE:0
SUMMARY:Searows
UID:f2702f6c-1f54-43b4-9204-9406cb9f729e
URL:https://events.org/e/Searows/JJTLMF58
BEGIN:VALARM
ACTION:DISPLAY
SUMMARY:Reminder
TRIGGER:-P1D
END:VALARM
END:VEVENT
END:VCALENDAR
