BEGIN:VCALENDAR
METHOD:REQUEST
PRODID:-//events.orgNONSGML ical.net 4.0//EN
VERSION:2.0
BEGIN:VEVENT
DTEND;VALUE=DATE:20260626
DTSTAMP:20260422T091705Z
DTSTART;VALUE=DATE:20260626
LOCATION:Longhorn Ballroom - Dallas\, Dallas
ORGANIZER;CN=:mailto:events@events.org
SEQUENCE:0
SUMMARY:Buju Banton w/ Stephen Marley
UID:3ecda770-6721-4f7e-988b-eca6d3beb3e1
URL:https://events.org/e/Buju-Banton-w-Stephen-Marley/B6SP89HH
BEGIN:VALARM
ACTION:DISPLAY
SUMMARY:Reminder
TRIGGER:-P1D
END:VALARM
END:VEVENT
END:VCALENDAR
