BEGIN:VCALENDAR
METHOD:REQUEST
PRODID:-//events.orgNONSGML ical.net 4.0//EN
VERSION:2.0
BEGIN:VEVENT
DTEND;VALUE=DATE:20260603
DTSTAMP:20260424T092210Z
DTSTART;VALUE=DATE:20260603
LOCATION:Buckhead Theatre\, Atlanta
ORGANIZER;CN=:mailto:events@events.org
SEQUENCE:0
SUMMARY:Corbyn Besson and Soulidified: The Pop'n Out Tour
UID:421efccd-57b7-4160-a786-867ccecbd919
URL:https://events.org/e/Corbyn-Besson-and-Soulidified-The-Popn-Out-Tour/9
 PE87435
BEGIN:VALARM
ACTION:DISPLAY
SUMMARY:Reminder
TRIGGER:-P1D
END:VALARM
END:VEVENT
END:VCALENDAR
