BEGIN:VCALENDAR
METHOD:REQUEST
PRODID:-//events.orgNONSGML ical.net 4.0//EN
VERSION:2.0
BEGIN:VEVENT
DTEND;VALUE=DATE:20260917
DTSTAMP:20260421T095727Z
DTSTART;VALUE=DATE:20260917
LOCATION:American Airlines Center\, Dallas
ORGANIZER;CN=:mailto:events@events.org
SEQUENCE:0
SUMMARY:Tame Impala - The Deadbeat Tour
UID:c6cc6726-e4c1-4028-9b9f-7068833cbb72
URL:https://events.org/e/Tame-Impala---The-Deadbeat-Tour/TG83Q83V
BEGIN:VALARM
ACTION:DISPLAY
SUMMARY:Reminder
TRIGGER:-P1D
END:VALARM
END:VEVENT
END:VCALENDAR
