BEGIN:VCALENDAR
METHOD:REQUEST
PRODID:-//events.orgNONSGML ical.net 4.0//EN
VERSION:2.0
BEGIN:VEVENT
DTEND;VALUE=DATE:20260516
DTSTAMP:20260421T082245Z
DTSTART;VALUE=DATE:20260516
LOCATION:Chop Suey\, Seattle
ORGANIZER;CN=:mailto:events@events.org
SEQUENCE:0
SUMMARY:Trans Music Showcase
UID:f8e4d20b-a37b-4f9b-af9f-34616d7583f9
URL:https://events.org/e/Trans-Music-Showcase/KXEN8JF4
BEGIN:VALARM
ACTION:DISPLAY
SUMMARY:Reminder
TRIGGER:-P1D
END:VALARM
END:VEVENT
END:VCALENDAR
