BEGIN:VCALENDAR
METHOD:REQUEST
PRODID:-//events.orgNONSGML ical.net 4.0//EN
VERSION:2.0
BEGIN:VEVENT
DTEND;VALUE=DATE:20260514
DTSTAMP:20260421T081914Z
DTSTART;VALUE=DATE:20260514
LOCATION:August Hall\, San Francisco
ORGANIZER;CN=:mailto:events@events.org
SEQUENCE:0
SUMMARY:MAN WITH A MISSION WORLD TOUR 2026 - MARKING NEW GROUND - AMERICAS
UID:024ca133-88da-41b9-9a2b-97c7d89debd0
URL:https://events.org/e/MAN-WITH-A-MISSION-WORLD-TOUR-2026---MARKING/CHVO
 9AW7
BEGIN:VALARM
ACTION:DISPLAY
SUMMARY:Reminder
TRIGGER:-P1D
END:VALARM
END:VEVENT
END:VCALENDAR
