BEGIN:VCALENDAR
METHOD:REQUEST
PRODID:-//events.orgNONSGML ical.net 4.0//EN
VERSION:2.0
BEGIN:VEVENT
DTEND;VALUE=DATE:20260605
DTSTAMP:20260423T133217Z
DTSTART;VALUE=DATE:20260605
LOCATION:Phoenix Theatre - Stephenson Theatre\, Phoenix
ORGANIZER;CN=:mailto:events@events.org
SEQUENCE:0
SUMMARY:Ever After - The Musical
UID:1ecd745c-be05-4dbf-a1fe-58b47478107f
URL:https://events.org/e/Ever-After---The-Musical/P27WD2RE
BEGIN:VALARM
ACTION:DISPLAY
SUMMARY:Reminder
TRIGGER:-P1D
END:VALARM
END:VEVENT
END:VCALENDAR
