BEGIN:VCALENDAR
METHOD:REQUEST
PRODID:-//events.orgNONSGML ical.net 4.0//EN
VERSION:2.0
BEGIN:VEVENT
DTEND;VALUE=DATE:20260905
DTSTAMP:20260422T085407Z
DTSTART;VALUE=DATE:20260905
LOCATION:House of Blues San Diego\, San Diego
ORGANIZER;CN=:mailto:events@events.org
SEQUENCE:0
SUMMARY:The Charlatans UK - North American Tour 2026
UID:631fbb24-0008-419a-b36e-0ca87786b789
URL:https://events.org/e/The-Charlatans-UK---North-American-Tour-2026/IM2E
 V5Q5
BEGIN:VALARM
ACTION:DISPLAY
SUMMARY:Reminder
TRIGGER:-P1D
END:VALARM
END:VEVENT
END:VCALENDAR
