BEGIN:VCALENDAR
METHOD:REQUEST
PRODID:-//events.orgNONSGML ical.net 4.0//EN
VERSION:2.0
BEGIN:VEVENT
DTEND;VALUE=DATE:20260504
DTSTAMP:20260422T083741Z
DTSTART;VALUE=DATE:20260504
LOCATION:ChiTown Movies\, Chicago
ORGANIZER;CN=:mailto:events@events.org
SEQUENCE:0
SUMMARY:ChiTown Drive-In Presents - Star Wars: The Empire Strikes Back
UID:740fce01-3f3c-4fe1-9201-13dd83775ee4
URL:https://events.org/e/ChiTown-Drive-In-Presents---Star-Wars-The-Emp/RY8
 FBMW5
BEGIN:VALARM
ACTION:DISPLAY
SUMMARY:Reminder
TRIGGER:-P1D
END:VALARM
END:VEVENT
END:VCALENDAR
