BEGIN:VCALENDAR
METHOD:REQUEST
PRODID:-//events.orgNONSGML ical.net 4.0//EN
VERSION:2.0
BEGIN:VEVENT
DTEND;VALUE=DATE:20260823
DTSTAMP:20260424T092547Z
DTSTART;VALUE=DATE:20260823
LOCATION:Underground Arts\, Philadelphia
ORGANIZER;CN=:mailto:events@events.org
SEQUENCE:0
SUMMARY:Faetooth (21+ Event)
UID:15ae745c-02e7-4a36-b46a-2607b8069600
URL:https://events.org/e/Faetooth-21-Event/8FD8BUS7
BEGIN:VALARM
ACTION:DISPLAY
SUMMARY:Reminder
TRIGGER:-P1D
END:VALARM
END:VEVENT
END:VCALENDAR
