BEGIN:VCALENDAR
METHOD:REQUEST
PRODID:-//events.orgNONSGML ical.net 4.0//EN
VERSION:2.0
BEGIN:VEVENT
DTEND;VALUE=DATE:20260909
DTSTAMP:20260422T090405Z
DTSTART;VALUE=DATE:20260909
LOCATION:Citizens Bank Park\, Philadelphia
ORGANIZER;CN=:mailto:events@events.org
SEQUENCE:0
SUMMARY:Philadelphia Phillies vs. Houston Astros
UID:059a8ab1-9305-4a3d-a7b0-545df0da9aa3
URL:https://events.org/e/Philadelphia-Phillies-vs-Houston-Astros/5KSUOSBM
BEGIN:VALARM
ACTION:DISPLAY
SUMMARY:Reminder
TRIGGER:-P1D
END:VALARM
END:VEVENT
END:VCALENDAR
