BEGIN:VCALENDAR
METHOD:REQUEST
PRODID:-//events.orgNONSGML ical.net 4.0//EN
VERSION:2.0
BEGIN:VEVENT
DTEND;VALUE=DATE:20260518
DTSTAMP:20260422T090345Z
DTSTART;VALUE=DATE:20260518
LOCATION:Los Angeles Memorial Coliseum\, Los Angeles
ORGANIZER;CN=:mailto:events@events.org
SEQUENCE:0
SUMMARY:Los Angeles Coliseum Historic Tours
UID:557f048e-65f4-498e-869c-ec98f07ee983
URL:https://events.org/e/Los-Angeles-Coliseum-Historic-Tours/OGP7Y4BC
BEGIN:VALARM
ACTION:DISPLAY
SUMMARY:Reminder
TRIGGER:-P1D
END:VALARM
END:VEVENT
END:VCALENDAR
