BEGIN:VCALENDAR
METHOD:REQUEST
PRODID:-//events.orgNONSGML ical.net 4.0//EN
VERSION:2.0
BEGIN:VEVENT
DTEND;VALUE=DATE:20260708
DTSTAMP:20260424T092046Z
DTSTART;VALUE=DATE:20260708
LOCATION:The End (Houston\,TX)\, Houston
ORGANIZER;CN=:mailto:events@events.org
SEQUENCE:0
SUMMARY:Adjust The Sails - The Hella Overrated Tour with Hummus Vacuum\, w
 orlds greatest dad\, & Cinema Stare
UID:cf5e5199-6044-4e3e-a24b-0d912534424f
URL:https://events.org/e/Adjust-The-Sails---The-Hella-Overrated-Tour-w/XA2
 A4TBI
BEGIN:VALARM
ACTION:DISPLAY
SUMMARY:Reminder
TRIGGER:-P1D
END:VALARM
END:VEVENT
END:VCALENDAR
