BEGIN:VCALENDAR
METHOD:REQUEST
PRODID:-//events.orgNONSGML ical.net 4.0//EN
VERSION:2.0
BEGIN:VEVENT
DTEND;VALUE=DATE:20260427
DTSTAMP:20260423T133420Z
DTSTART;VALUE=DATE:20260427
LOCATION:Auditorium Theatre - IL\, Chicago
ORGANIZER;CN=:mailto:events@events.org
SEQUENCE:0
SUMMARY:Waxahatchee w/ MJ Lenderman
UID:0edcacea-44da-4fc0-823e-794d89317dde
URL:https://events.org/e/Waxahatchee-w-MJ-Lenderman/Y4Q54H54
BEGIN:VALARM
ACTION:DISPLAY
SUMMARY:Reminder
TRIGGER:-P1D
END:VALARM
END:VEVENT
END:VCALENDAR
