BEGIN:VCALENDAR
METHOD:REQUEST
PRODID:-//events.orgNONSGML ical.net 4.0//EN
VERSION:2.0
BEGIN:VEVENT
DTEND;VALUE=DATE:20261107
DTSTAMP:20260421T104115Z
DTSTART;VALUE=DATE:20261107
LOCATION:House of Blues Dallas \, Dallas
ORGANIZER;CN=:mailto:events@events.org
SEQUENCE:0
SUMMARY:Dance Now
UID:18aa8047-751f-496e-aa47-11be5acd7b4a
URL:https://events.org/e/Dance-Now/2ON4TH8M
BEGIN:VALARM
ACTION:DISPLAY
SUMMARY:Reminder
TRIGGER:-P1D
END:VALARM
END:VEVENT
END:VCALENDAR
