BEGIN:VCALENDAR
METHOD:REQUEST
PRODID:-//events.orgNONSGML ical.net 4.0//EN
VERSION:2.0
BEGIN:VEVENT
DTEND;VALUE=DATE:20260613
DTSTAMP:20260424T092055Z
DTSTART;VALUE=DATE:20260613
LOCATION:Nova SD\, San Diego
ORGANIZER;CN=:mailto:events@events.org
SEQUENCE:0
SUMMARY:Nic Vans
UID:b7dc8d8c-5641-41bc-b1b3-e22e12298db6
URL:https://events.org/e/Nic-Vans/X6HLLGSV
BEGIN:VALARM
ACTION:DISPLAY
SUMMARY:Reminder
TRIGGER:-P1D
END:VALARM
END:VEVENT
END:VCALENDAR
