BEGIN:VCALENDAR
METHOD:REQUEST
PRODID:-//events.orgNONSGML ical.net 4.0//EN
VERSION:2.0
BEGIN:VEVENT
DTEND;VALUE=DATE:20260429
DTSTAMP:20260424T082000Z
DTSTART;VALUE=DATE:20260429
LOCATION:James Earl Jones Theatre\, New York
ORGANIZER;CN=:mailto:events@events.org
SEQUENCE:0
SUMMARY:The Fear of 13
UID:37840c42-8c86-40f6-ac15-2ea102393773
URL:https://events.org/e/The-Fear-of-13/Y2ATYEPU
BEGIN:VALARM
ACTION:DISPLAY
SUMMARY:Reminder
TRIGGER:-P1D
END:VALARM
END:VEVENT
END:VCALENDAR
