BEGIN:VCALENDAR
METHOD:REQUEST
PRODID:-//events.orgNONSGML ical.net 4.0//EN
VERSION:2.0
BEGIN:VEVENT
DTEND;VALUE=DATE:20260627
DTSTAMP:20260421T131729Z
DTSTART;VALUE=DATE:20260627
LOCATION:Lincoln Financial Field\, Philadelphia
ORGANIZER;CN=:mailto:events@events.org
SEQUENCE:0
SUMMARY:World Cup: Match 68 ??? Group L - Croatia vs Ghana
UID:66fdf747-2c5d-4106-8b53-db3048724648
URL:https://events.org/e/World-Cup-Match-68-Group-L---Croatia-vs-Ghana/4CY
 UDXTN
BEGIN:VALARM
ACTION:DISPLAY
SUMMARY:Reminder
TRIGGER:-P1D
END:VALARM
END:VEVENT
END:VCALENDAR
