BEGIN:VCALENDAR
METHOD:REQUEST
PRODID:-//events.orgNONSGML ical.net 4.0//EN
VERSION:2.0
BEGIN:VEVENT
DTEND;VALUE=DATE:20260424
DTSTAMP:20260422T092427Z
DTSTART;VALUE=DATE:20260424
LOCATION:Hard Rock Cafe\, New York
ORGANIZER;CN=:mailto:events@events.org
SEQUENCE:0
SUMMARY:Reefer Madness the Movie Musical!
UID:a697f42e-bfe4-4f0b-b96d-6798af62b1a9
URL:https://events.org/e/Reefer-Madness-the-Movie-Musical/V3M5JE7O
BEGIN:VALARM
ACTION:DISPLAY
SUMMARY:Reminder
TRIGGER:-P1D
END:VALARM
END:VEVENT
END:VCALENDAR
