BEGIN:VCALENDAR
METHOD:REQUEST
PRODID:-//events.orgNONSGML ical.net 4.0//EN
VERSION:2.0
BEGIN:VEVENT
DTEND;VALUE=DATE:20261010
DTSTAMP:20260424T092036Z
DTSTART;VALUE=DATE:20261010
LOCATION:Varsity Theater\, Minneapolis
ORGANIZER;CN=:mailto:events@events.org
SEQUENCE:0
SUMMARY:EMEI - Night at the Opera Tour
UID:2b0b800b-99cf-4380-9d3b-72561389e6bf
URL:https://events.org/e/EMEI---Night-at-the-Opera-Tour/RTCR6LSC
BEGIN:VALARM
ACTION:DISPLAY
SUMMARY:Reminder
TRIGGER:-P1D
END:VALARM
END:VEVENT
END:VCALENDAR
