BEGIN:VCALENDAR
METHOD:REQUEST
PRODID:-//events.orgNONSGML ical.net 4.0//EN
VERSION:2.0
BEGIN:VEVENT
DTEND;VALUE=DATE:20260523
DTSTAMP:20260424T080630Z
DTSTART;VALUE=DATE:20260523
LOCATION:The Regent Theater\, Los Angeles
ORGANIZER;CN=:mailto:events@events.org
SEQUENCE:0
SUMMARY:Major Accident
UID:c22bca1c-9b33-4465-b9ce-132cb94344ba
URL:https://events.org/e/Major-Accident/UFUHRF43
BEGIN:VALARM
ACTION:DISPLAY
SUMMARY:Reminder
TRIGGER:-P1D
END:VALARM
END:VEVENT
END:VCALENDAR
