BEGIN:VCALENDAR
METHOD:REQUEST
PRODID:-//events.orgNONSGML ical.net 4.0//EN
VERSION:2.0
BEGIN:VEVENT
DTEND;VALUE=DATE:20260506
DTSTAMP:20260419T143210Z
DTSTART;VALUE=DATE:20260506
LOCATION:Dynasty Typewriter at The Hayworth\, Los Angeles
ORGANIZER;CN=:mailto:events@events.org
SEQUENCE:0
SUMMARY:Netflix Is A Joke Presents: Lucas Zelnick - Crowdwork Only Show (1
 6+ Event)
UID:127a0318-e879-45bc-8887-6e2261492dbb
URL:https://events.org/e/Netflix-Is-A-Joke-Presents-Lucas-Zelnick---Cr/NHH
 UDGYF
BEGIN:VALARM
ACTION:DISPLAY
SUMMARY:Reminder
TRIGGER:-P1D
END:VALARM
END:VEVENT
END:VCALENDAR
