BEGIN:VCALENDAR
METHOD:REQUEST
PRODID:-//events.orgNONSGML ical.net 4.0//EN
VERSION:2.0
BEGIN:VEVENT
DTEND;VALUE=DATE:20260619
DTSTAMP:20260421T104116Z
DTSTART;VALUE=DATE:20260619
LOCATION:Grizzly Rose\, Denver
ORGANIZER;CN=:mailto:events@events.org
SEQUENCE:0
SUMMARY:JASON BOLAND & THE STRAGGLERS
UID:f6969105-f90a-4947-9750-5eb71e3c5d80
URL:https://events.org/e/JASON-BOLAND-THE-STRAGGLERS/O72D3IHI
BEGIN:VALARM
ACTION:DISPLAY
SUMMARY:Reminder
TRIGGER:-P1D
END:VALARM
END:VEVENT
END:VCALENDAR
