BEGIN:VCALENDAR
METHOD:REQUEST
PRODID:-//events.orgNONSGML ical.net 4.0//EN
VERSION:2.0
BEGIN:VEVENT
DTEND;VALUE=DATE:20260717
DTSTAMP:20260423T133205Z
DTSTART;VALUE=DATE:20260717
LOCATION:The Rady Shell at Jacobs Park\, San Diego
ORGANIZER;CN=:mailto:events@events.org
SEQUENCE:0
SUMMARY:Distant Worlds: Music from Final Fantasy
UID:9d8bd1fa-f2f8-4fc1-be4c-470a5ecdb313
URL:https://events.org/e/Distant-Worlds-Music-from-Final-Fantasy/LKGW646R
BEGIN:VALARM
ACTION:DISPLAY
SUMMARY:Reminder
TRIGGER:-P1D
END:VALARM
END:VEVENT
END:VCALENDAR
