BEGIN:VCALENDAR
METHOD:REQUEST
PRODID:-//events.orgNONSGML ical.net 4.0//EN
VERSION:2.0
BEGIN:VEVENT
DTEND;VALUE=DATE:20260624
DTSTAMP:20260421T094413Z
DTSTART;VALUE=DATE:20260624
LOCATION:Phoenix Theatre - Hormel Theatre\, Phoenix
ORGANIZER;CN=:mailto:events@events.org
SEQUENCE:0
SUMMARY:Dear Evan Hansen (Touring)
UID:78485290-92d9-4b79-8c91-ffe687cef3cb
URL:https://events.org/e/Dear-Evan-Hansen-Touring/9QMQEFLN
BEGIN:VALARM
ACTION:DISPLAY
SUMMARY:Reminder
TRIGGER:-P1D
END:VALARM
END:VEVENT
END:VCALENDAR
