BEGIN:VCALENDAR
METHOD:REQUEST
PRODID:-//events.orgNONSGML ical.net 4.0//EN
VERSION:2.0
BEGIN:VEVENT
DTEND;VALUE=DATE:20260731
DTSTAMP:20260422T090953Z
DTSTART;VALUE=DATE:20260731
LOCATION:713 Music Hall\, Houston
ORGANIZER;CN=:mailto:events@events.org
SEQUENCE:0
SUMMARY:The Fray - Summer of Light Tour with Dashboard Confessional
UID:60152e56-4827-446a-843c-391e7f87b36f
URL:https://events.org/e/The-Fray---Summer-of-Light-Tour-with-Dashboar/EAO
 GPYTL
BEGIN:VALARM
ACTION:DISPLAY
SUMMARY:Reminder
TRIGGER:-P1D
END:VALARM
END:VEVENT
END:VCALENDAR
