BEGIN:VCALENDAR
METHOD:REQUEST
PRODID:-//events.orgNONSGML ical.net 4.0//EN
VERSION:2.0
BEGIN:VEVENT
DTEND;VALUE=DATE:20260503
DTSTAMP:20260419T143042Z
DTSTART;VALUE=DATE:20260503
LOCATION:Cobb Energy Performing Arts Centre\, Atlanta
ORGANIZER;CN=:mailto:events@events.org
SEQUENCE:0
SUMMARY:Atlanta Opera Presents Turandot
UID:527e8837-c5f6-45b8-a51a-6d3ad2a8320c
URL:https://events.org/e/Atlanta-Opera-Presents-Turandot/TFFADM3D
BEGIN:VALARM
ACTION:DISPLAY
SUMMARY:Reminder
TRIGGER:-P1D
END:VALARM
END:VEVENT
END:VCALENDAR
