BEGIN:VCALENDAR
METHOD:REQUEST
PRODID:-//events.orgNONSGML ical.net 4.0//EN
VERSION:2.0
BEGIN:VEVENT
DTEND;VALUE=DATE:20261110
DTSTAMP:20260422T084549Z
DTSTART;VALUE=DATE:20261110
LOCATION:The Atlantis\, Washington
ORGANIZER;CN=:mailto:events@events.org
SEQUENCE:0
SUMMARY:Dan Whitlam
UID:c5c41ef1-47aa-47d3-a118-e83e00cc5f9b
URL:https://events.org/e/Dan-Whitlam/3A9IAN22
BEGIN:VALARM
ACTION:DISPLAY
SUMMARY:Reminder
TRIGGER:-P1D
END:VALARM
END:VEVENT
END:VCALENDAR
