BEGIN:VCALENDAR
METHOD:REQUEST
PRODID:-//events.orgNONSGML ical.net 4.0//EN
VERSION:2.0
BEGIN:VEVENT
DTEND;VALUE=DATE:20260424
DTSTAMP:20260422T090851Z
DTSTART;VALUE=DATE:20260424
LOCATION:Broadway Theatre\, New York
ORGANIZER;CN=:mailto:events@events.org
SEQUENCE:0
SUMMARY:The Great Gatsby
UID:1f6d1d57-c876-43b1-9d8a-7697fc981dbd
URL:https://events.org/e/The-Great-Gatsby/L4HLV6T9
BEGIN:VALARM
ACTION:DISPLAY
SUMMARY:Reminder
TRIGGER:-P1D
END:VALARM
END:VEVENT
END:VCALENDAR
