BEGIN:VCALENDAR
METHOD:REQUEST
PRODID:-//events.orgNONSGML ical.net 4.0//EN
VERSION:2.0
BEGIN:VEVENT
DTEND;VALUE=DATE:20260510
DTSTAMP:20260424T081221Z
DTSTART;VALUE=DATE:20260510
LOCATION:South Side Studios\, Dallas
ORGANIZER;CN=:mailto:events@events.org
SEQUENCE:0
SUMMARY:Balloon Museum | Let's Fly - Art Has No Limits - Dallas
UID:df0638bc-66e3-4fbc-9c39-23af99f71992
URL:https://events.org/e/Balloon-Museum-Lets-Fly---Art-Has-No-Limits--/BGJ
 4EYKD
BEGIN:VALARM
ACTION:DISPLAY
SUMMARY:Reminder
TRIGGER:-P1D
END:VALARM
END:VEVENT
END:VCALENDAR
