BEGIN:VCALENDAR
METHOD:REQUEST
PRODID:-//events.orgNONSGML ical.net 4.0//EN
VERSION:2.0
BEGIN:VEVENT
DTEND;VALUE=DATE:20260426
DTSTAMP:20260424T080506Z
DTSTART;VALUE=DATE:20260426
LOCATION:Stage 42\, New York
ORGANIZER;CN=:mailto:events@events.org
SEQUENCE:0
SUMMARY:Gotta Dance!
UID:a16cdc7c-be1c-4876-9041-3bc64c909bd6
URL:https://events.org/e/Gotta-Dance/DTKLT4SL
BEGIN:VALARM
ACTION:DISPLAY
SUMMARY:Reminder
TRIGGER:-P1D
END:VALARM
END:VEVENT
END:VCALENDAR
