BEGIN:VCALENDAR
METHOD:REQUEST
PRODID:-//events.orgNONSGML ical.net 4.0//EN
VERSION:2.0
BEGIN:VEVENT
DTEND;VALUE=DATE:20260420
DTSTAMP:20260419T142818Z
DTSTART;VALUE=DATE:20260420
LOCATION:The GRAMMY Museum\, Los Angeles
ORGANIZER;CN=:mailto:events@events.org
SEQUENCE:0
SUMMARY:The Drop: Young the Giant
UID:5f1fcff1-a0dd-4722-b87a-a386f88201ff
URL:https://events.org/e/The-Drop-Young-the-Giant/LDBOD4MR
BEGIN:VALARM
ACTION:DISPLAY
SUMMARY:Reminder
TRIGGER:-P1D
END:VALARM
END:VEVENT
END:VCALENDAR
