BEGIN:VCALENDAR
METHOD:REQUEST
PRODID:-//events.orgNONSGML ical.net 4.0//EN
VERSION:2.0
BEGIN:VEVENT
DTEND;VALUE=DATE:20260625
DTSTAMP:20260422T090229Z
DTSTART;VALUE=DATE:20260625
LOCATION:T-Mobile Park\, Seattle
ORGANIZER;CN=:mailto:events@events.org
SEQUENCE:0
SUMMARY:Fuerza Regida: This Is Our Dream Stadium Tour 2026
UID:eda07cfe-b3a7-4a69-92a4-2cfe5544d7a6
URL:https://events.org/e/Fuerza-Regida-This-Is-Our-Dream-Stadium-Tour-2026
 /DJJNBUFT
BEGIN:VALARM
ACTION:DISPLAY
SUMMARY:Reminder
TRIGGER:-P1D
END:VALARM
END:VEVENT
END:VCALENDAR
