BEGIN:VCALENDAR
METHOD:REQUEST
PRODID:-//events.orgNONSGML ical.net 4.0//EN
VERSION:2.0
BEGIN:VEVENT
DTEND;VALUE=DATE:20260428
DTSTAMP:20260424T080546Z
DTSTART;VALUE=DATE:20260428
LOCATION:Circle in the Square Theatre\, New York
ORGANIZER;CN=:mailto:events@events.org
SEQUENCE:0
SUMMARY:Just In Time
UID:1ca54874-b6b3-4599-acd1-f3ad3e0ba8af
URL:https://events.org/e/Just-In-Time/QMXG5YIP
BEGIN:VALARM
ACTION:DISPLAY
SUMMARY:Reminder
TRIGGER:-P1D
END:VALARM
END:VEVENT
END:VCALENDAR
