BEGIN:VCALENDAR
METHOD:REQUEST
PRODID:-//events.orgNONSGML ical.net 4.0//EN
VERSION:2.0
BEGIN:VEVENT
DTEND;VALUE=DATE:20260613
DTSTAMP:20260421T094414Z
DTSTART;VALUE=DATE:20260613
LOCATION:Arena Theatre\, Houston
ORGANIZER;CN=:mailto:events@events.org
SEQUENCE:0
SUMMARY:Javed Ali
UID:0cf738b8-a67b-4f43-87d2-ca766375178b
URL:https://events.org/e/Javed-Ali/2CLECUV3
BEGIN:VALARM
ACTION:DISPLAY
SUMMARY:Reminder
TRIGGER:-P1D
END:VALARM
END:VEVENT
END:VCALENDAR
