BEGIN:VCALENDAR
METHOD:REQUEST
PRODID:-//events.orgNONSGML ical.net 4.0//EN
VERSION:2.0
BEGIN:VEVENT
DTEND;VALUE=DATE:20260717
DTSTAMP:20260424T092747Z
DTSTART;VALUE=DATE:20260717
LOCATION:Center Stage Theater\, Atlanta
ORGANIZER;CN=:mailto:events@events.org
SEQUENCE:0
SUMMARY:1FW SUMMERSTAGE 2 Presented by Dalton Carpet One
UID:ad1ba544-c60a-475e-86bd-9ae3b45ed5dc
URL:https://events.org/e/1FW-SUMMERSTAGE-2-Presented-by-Dalton-Carpet-One/
 9KIPSNGY
BEGIN:VALARM
ACTION:DISPLAY
SUMMARY:Reminder
TRIGGER:-P1D
END:VALARM
END:VEVENT
END:VCALENDAR
