BEGIN:VCALENDAR
METHOD:REQUEST
PRODID:-//events.orgNONSGML ical.net 4.0//EN
VERSION:2.0
BEGIN:VEVENT
DTEND;VALUE=DATE:20260528
DTSTAMP:20260424T081006Z
DTSTART;VALUE=DATE:20260528
LOCATION:The Salt Shed Indoors (Shed)\, Chicago
ORGANIZER;CN=:mailto:events@events.org
SEQUENCE:0
SUMMARY:BELLE & SEBASTIAN: TIGERMILK + CLASSIC SONGS
UID:bc8afef7-876b-4323-9b8e-d23935e31f48
URL:https://events.org/e/BELLE-SEBASTIAN-TIGERMILK-CLASSIC-SONGS/SUUOR4TX
BEGIN:VALARM
ACTION:DISPLAY
SUMMARY:Reminder
TRIGGER:-P1D
END:VALARM
END:VEVENT
END:VCALENDAR
