BEGIN:VCALENDAR
METHOD:REQUEST
PRODID:-//events.orgNONSGML ical.net 4.0//EN
VERSION:2.0
BEGIN:VEVENT
DTEND;VALUE=DATE:20260422
DTSTAMP:20260422T091845Z
DTSTART;VALUE=DATE:20260422
LOCATION:Berlin\, New York
ORGANIZER;CN=:mailto:events@events.org
SEQUENCE:0
SUMMARY:Lillie Kolich | Mariel Gesualdi
UID:afed3b67-1557-4dd0-b2be-f0475c3b8ceb
URL:https://events.org/e/Lillie-Kolich-Mariel-Gesualdi/8F5FCEWS
BEGIN:VALARM
ACTION:DISPLAY
SUMMARY:Reminder
TRIGGER:-P1D
END:VALARM
END:VEVENT
END:VCALENDAR
