BEGIN:VCALENDAR
METHOD:REQUEST
PRODID:-//events.orgNONSGML ical.net 4.0//EN
VERSION:2.0
BEGIN:VEVENT
DTEND;VALUE=DATE:20260622
DTSTAMP:20260421T114826Z
DTSTART;VALUE=DATE:20260622
LOCATION:PETCO Park\, San Diego
ORGANIZER;CN=:mailto:events@events.org
SEQUENCE:0
SUMMARY:San Diego Padres vs Atlanta Braves: Western Snapback Hat
UID:dce532c9-ea0b-4fdb-b39d-07f6668e4f09
URL:https://events.org/e/San-Diego-Padres-vs-Atlanta-Braves-Western-Sn/58K
 JO7C6
BEGIN:VALARM
ACTION:DISPLAY
SUMMARY:Reminder
TRIGGER:-P1D
END:VALARM
END:VEVENT
END:VCALENDAR
