BEGIN:VCALENDAR
METHOD:REQUEST
PRODID:-//events.orgNONSGML ical.net 4.0//EN
VERSION:2.0
BEGIN:VEVENT
DTEND;VALUE=DATE:20260801
DTSTAMP:20260422T090110Z
DTSTART;VALUE=DATE:20260801
LOCATION:Dudley Riggs Theatre\, Minneapolis
ORGANIZER;CN=:mailto:events@events.org
SEQUENCE:0
SUMMARY:Battle of the Improv All-Stars 2026
UID:35e622e0-8f12-4819-8466-e0e0e4e6125d
URL:https://events.org/e/Battle-of-the-Improv-All-Stars-2026/L2XX4H5X
BEGIN:VALARM
ACTION:DISPLAY
SUMMARY:Reminder
TRIGGER:-P1D
END:VALARM
END:VEVENT
END:VCALENDAR
