BEGIN:VCALENDAR
METHOD:REQUEST
PRODID:-//events.orgNONSGML ical.net 4.0//EN
VERSION:2.0
BEGIN:VEVENT
DTEND;VALUE=DATE:20260508
DTSTAMP:20260423T134005Z
DTSTART;VALUE=DATE:20260508
LOCATION:Pacific Electric\, Los Angeles
ORGANIZER;CN=:mailto:events@events.org
SEQUENCE:0
SUMMARY:Netflix Is A Joke Presents: Nurse John: Not Another Pizza Party
UID:7988945e-a7e9-4682-929b-2dce7b647e70
URL:https://events.org/e/Netflix-Is-A-Joke-Presents-Nurse-John-Not-Ano/LL9
 BPE4P
BEGIN:VALARM
ACTION:DISPLAY
SUMMARY:Reminder
TRIGGER:-P1D
END:VALARM
END:VEVENT
END:VCALENDAR
