BEGIN:VCALENDAR
METHOD:REQUEST
PRODID:-//events.orgNONSGML ical.net 4.0//EN
VERSION:2.0
BEGIN:VEVENT
DTEND;VALUE=DATE:20260814
DTSTAMP:20260424T092747Z
DTSTART;VALUE=DATE:20260814
LOCATION:Improv Comedy Club- DC\, Washington
ORGANIZER;CN=:mailto:events@events.org
SEQUENCE:0
SUMMARY:Rosebud Baker
UID:0e367642-b84c-416e-bb7f-896bdaee9fa4
URL:https://events.org/e/Rosebud-Baker/OF5J4AJG
BEGIN:VALARM
ACTION:DISPLAY
SUMMARY:Reminder
TRIGGER:-P1D
END:VALARM
END:VEVENT
END:VCALENDAR
